Workbook

Sheet Sheet1
A1: Filled by ALT | F1: Filled by Fii
A2: Serial Number | B2: MODEL_NAME ex. T99X171 or T99X202 | C2: RMA issue (LED or not) | D2: Phenomenon | E2: Request | F2: Shipping Date (From Fii to ALT) | G2: Return date | H2: In or Out of Warranty
A3: 2149688001202404084560 | B3: T99X171 | C3: LED불량 | D3: =VLOOKUP(C3,Sheet2!A:B,2,0) -> 10 - LED failure | F3: 45394.777 | G3: 45918 | H3: In of Warranty
A4: 2149688001202404088263 | B4: T99X171 | C4: LED불량 | D4: =VLOOKUP(C4,Sheet2!A:B,2,0) -> 10 - LED failure | F4: 45394.777 | G4: 45918 | H4: In of Warranty
A5: 2149688001202404107977 | B5: T99X171 | C5: LED불량 | D5: =VLOOKUP(C5,Sheet2!A:B,2,0) -> 10 - LED failure | F5: 45428.569 | G5: 45918 | H5: In of Warranty
A6: 2149688001202404325865 | B6: T99X171 | C6: LED불량 | D6: =VLOOKUP(C6,Sheet2!A:B,2,0) -> 10 - LED failure | F6: 45553.939 | G6: 45918 | H6: In of Warranty
A7: 2149688001202404328913 | B7: T99X171 | C7: LED불량 | D7: =VLOOKUP(C7,Sheet2!A:B,2,0) -> 10 - LED failure | F7: 45553.742 | G7: 45918 | H7: In of Warranty
A8: 2149688001202404047570 | B8: T99X171 | C8: LED불량 | D8: =VLOOKUP(C8,Sheet2!A:B,2,0) -> 10 - LED failure | F8: 45371.466 | G8: 45918 | H8: In of Warranty
A9: 2149688001202503094006 | B9: T99X171 | C9: LED불량 | D9: =VLOOKUP(C9,Sheet2!A:B,2,0) -> 10 - LED failure | F9: 45761.712 | G9: 45918 | H9: In of Warranty
A10: 2149688001202404098868 | B10: T99X171 | C10: LED불량 | D10: =VLOOKUP(C10,Sheet2!A:B,2,0) -> 10 - LED failure | F10: 45425.651 | G10: 45918 | H10: In of Warranty
A11: 2149688001202503138766 | B11: T99X171 | C11: LED불량 | D11: =VLOOKUP(C11,Sheet2!A:B,2,0) -> 10 - LED failure | F11: 45771.455 | G11: 45918 | H11: In of Warranty
A12: 2149688001202404280352 | B12: T99X171 | C12: LED불량 | D12: =VLOOKUP(C12,Sheet2!A:B,2,0) -> 10 - LED failure | F12: 45517.874 | G12: 45918 | H12: In of Warranty
A13: 2149688001202404369815 | B13: T99X171 | C13: LED불량 | D13: =VLOOKUP(C13,Sheet2!A:B,2,0) -> 10 - LED failure | F13: 45561.45 | G13: 45918 | H13: In of Warranty
A14: 2149688001202404367829 | B14: T99X171 | C14: LED불량 | D14: =VLOOKUP(C14,Sheet2!A:B,2,0) -> 10 - LED failure | F14: 45561.45 | G14: 45918 | H14: In of Warranty
... A237: 2149688001202404064870 | B237: T99X171 | C237: 장비이상작동 | D237: =VLOOKUP(C237,Sheet2!A:B,2,0) -> 122 - system reset failure | F237: 45393.685 | G237: 45918 | H237: In of Warranty

Sheet Sheet2
A1: LED불량 | B1: 10 - LED failure
A2: 전원불량 | B2: 70 - No power
A3: 전원연결불량 | B3: 70 - No power
A4: 부팅중멈춤 | B4: 121 - booting failure
A5: 부팅불량 | B5: 121 - booting failure
A6: 부팅중 멈춤 | B6: 121 - booting failure
A7: HDMI불량 | B7: 25 - HDMI failure
A8: HDMI 불량 | B8: 25 - HDMI failure
A9: HDMI출력불량 | B9: 25 - HDMI failure
A10: 버튼불량 | B10: 156 - KEY failure
A11: 장비버튼불량 | B11: 156 - KEY failure
A12: USB인식불량 | B12: 23 - USB failure
... A20: 영상불량 | B20: 140 - TV Screen failure
B21: 19 - Voice input failure
A22: 장비이상작동 | B22: 122 - system reset failure
B23: 152 - Bluetooth failure
A24: SOUND 출력불량 | B24: 111- Sound failure
A25: IR리모컨동작불량 | B25: 144 - IR receive failure
